BEGIN:VCALENDAR
VERSION:2.0
PRODID:icalendar-ruby
CALSCALE:GREGORIAN
METHOD:PUBLISH
BEGIN:VEVENT
DTSTAMP:20260421T120635Z
UID:217-262794@standrewmemorial.org
DTSTART:20260427T150000Z
DTEND:20260428T040000Z
CLASS:PUBLIC
CREATED:20260420T135845
DESCRIPTION:
LAST-MODIFIED:20260420T135845
LOCATION:
SUMMARY:Bible Study Gospel of Matthew
URL;VALUE=URI:https://standrewmemorial.org/events/bible-study-gospel-of-mat
 thew--217/2026-04-27
ATTACH;FILENAME=Matthew.jpg;FMTTYPE=image/jpeg:https://dq5pwpg1q8ru0.cloudf
 ront.net/2026/04/16/19/48/35/21735fcf-eaf4-4afa-9c60-64b17668ff01/Matthew.
 jpg
END:VEVENT
END:VCALENDAR
