BEGIN:VCALENDAR
VERSION:2.0
PRODID:icalendar-ruby
CALSCALE:GREGORIAN
METHOD:PUBLISH
BEGIN:VEVENT
DTSTAMP:20260420T150008Z
UID:220-262733@standrewmemorial.org
DTSTART:20260510T140000Z
DTEND:20260510T150000Z
CLASS:PUBLIC
CREATED:20260420T081257
DESCRIPTION:
LAST-MODIFIED:20260420T081257
LOCATION:
SUMMARY:Sixth Sunday of Easter
URL;VALUE=URI:https://standrewmemorial.org/events/sixth-sunday-of-easter--2
 20/2026-05-10
ATTACH;FILENAME=Easter-6.jpg;FMTTYPE=image/jpeg:https://dq5pwpg1q8ru0.cloud
 front.net/2026/04/20/12/12/12/6b11db61-f457-44a7-a372-014c42133167/Easter-
 6.jpg
END:VEVENT
END:VCALENDAR
