BEGIN:VCALENDAR
VERSION:2.0
PRODID:icalendar-ruby
CALSCALE:GREGORIAN
METHOD:PUBLISH
BEGIN:VEVENT
DTSTAMP:20260420T014725Z
UID:215-262548@standrewmemorial.org
DTSTART:20260503T123000Z
DTEND:20260503T133000Z
CLASS:PUBLIC
CREATED:20260419T083530
DESCRIPTION:
LAST-MODIFIED:20260419T083530
LOCATION:
SUMMARY:Third Sunday of Easter
URL;VALUE=URI:https://standrewmemorial.org/events/third-sunday-of-easter--2
 15/2026-05-03
END:VEVENT
END:VCALENDAR
